BEGIN:VCALENDAR
VERSION:2.0
PRODID:-//Saints Sport - ECPv6.15.17.1//NONSGML v1.0//EN
CALSCALE:GREGORIAN
METHOD:PUBLISH
X-WR-CALNAME:Saints Sport
X-ORIGINAL-URL:https://sport.wp.st-andrews.ac.uk
X-WR-CALDESC:Events for Saints Sport
REFRESH-INTERVAL;VALUE=DURATION:PT1H
X-Robots-Tag:noindex
X-PUBLISHED-TTL:PT1H
BEGIN:VTIMEZONE
TZID:Europe/London
BEGIN:DAYLIGHT
TZOFFSETFROM:+0000
TZOFFSETTO:+0100
TZNAME:BST
DTSTART:20240331T010000
END:DAYLIGHT
BEGIN:STANDARD
TZOFFSETFROM:+0100
TZOFFSETTO:+0000
TZNAME:GMT
DTSTART:20241027T010000
END:STANDARD
BEGIN:DAYLIGHT
TZOFFSETFROM:+0000
TZOFFSETTO:+0100
TZNAME:BST
DTSTART:20250330T010000
END:DAYLIGHT
BEGIN:STANDARD
TZOFFSETFROM:+0100
TZOFFSETTO:+0000
TZNAME:GMT
DTSTART:20251026T010000
END:STANDARD
BEGIN:DAYLIGHT
TZOFFSETFROM:+0000
TZOFFSETTO:+0100
TZNAME:BST
DTSTART:20260329T010000
END:DAYLIGHT
BEGIN:STANDARD
TZOFFSETFROM:+0100
TZOFFSETTO:+0000
TZNAME:GMT
DTSTART:20261025T010000
END:STANDARD
END:VTIMEZONE
BEGIN:VEVENT
DTSTART;TZID=Europe/London:20250417T190000
DTEND;TZID=Europe/London:20250417T220000
DTSTAMP:20260420T234936
CREATED:20250408T114123Z
LAST-MODIFIED:20250414T152609Z
UID:10000075-1744916400-1744927200@sport.wp.st-andrews.ac.uk
SUMMARY:Jonny Wookey Memorial Varsity Game
DESCRIPTION:The University of St Andrews Typhoons face their rival University of Edinburgh Eagles in one of the most exciting sporting events of the academic year. The atmosphere is second to none with packed stands and fast-paced Ice Hockey. Join 1\,000 of your fellow students to cheer on the Typhoons as they look to reclaim the title from their Scottish rivals.  \nThe match is played in memorial of Jonny Wookey. After Jonny tragically passed away just before his graduation in 2012\, the Wookey Game was established as a tribute and a fundraiser for the Club. Tributes will also be made to Kieran McCann\, a first-year Typhoon who we sadly lost in 2015. \n2025 Jonny Wookey Memorial Match Tickets
URL:https://sport.wp.st-andrews.ac.uk/event/jonny-wookey-memorial-2025/
LOCATION:Fife Ice Arena\, Kirkcaldy\, Kirkcaldy
CATEGORIES:Student Sport
ATTACH;FMTTYPE=image/jpeg:https://sport.wp.st-andrews.ac.uk/files/2022/10/AEV3Q8A1942-scaled.jpg
END:VEVENT
END:VCALENDAR