BEGIN:VCALENDAR
VERSION:2.0
PRODID:-//Saints Sport - ECPv6.15.17.1//NONSGML v1.0//EN
CALSCALE:GREGORIAN
METHOD:PUBLISH
X-WR-CALNAME:Saints Sport
X-ORIGINAL-URL:https://sport.wp.st-andrews.ac.uk
X-WR-CALDESC:Events for Saints Sport
REFRESH-INTERVAL;VALUE=DURATION:PT1H
X-Robots-Tag:noindex
X-PUBLISHED-TTL:PT1H
BEGIN:VTIMEZONE
TZID:Europe/London
BEGIN:DAYLIGHT
TZOFFSETFROM:+0000
TZOFFSETTO:+0100
TZNAME:BST
DTSTART:20230326T010000
END:DAYLIGHT
BEGIN:STANDARD
TZOFFSETFROM:+0100
TZOFFSETTO:+0000
TZNAME:GMT
DTSTART:20231029T010000
END:STANDARD
BEGIN:DAYLIGHT
TZOFFSETFROM:+0000
TZOFFSETTO:+0100
TZNAME:BST
DTSTART:20240331T010000
END:DAYLIGHT
BEGIN:STANDARD
TZOFFSETFROM:+0100
TZOFFSETTO:+0000
TZNAME:GMT
DTSTART:20241027T010000
END:STANDARD
BEGIN:DAYLIGHT
TZOFFSETFROM:+0000
TZOFFSETTO:+0100
TZNAME:BST
DTSTART:20250330T010000
END:DAYLIGHT
BEGIN:STANDARD
TZOFFSETFROM:+0100
TZOFFSETTO:+0000
TZNAME:GMT
DTSTART:20251026T010000
END:STANDARD
END:VTIMEZONE
BEGIN:VEVENT
DTSTART;TZID=Europe/London:20240410T190000
DTEND;TZID=Europe/London:20240410T220000
DTSTAMP:20260421T023513
CREATED:20240325T142852Z
LAST-MODIFIED:20240325T142929Z
UID:10000054-1712775600-1712786400@sport.wp.st-andrews.ac.uk
SUMMARY:Jonny Wookey Memorial Varisty Game
DESCRIPTION:🏒 THE JONNY WOOKEY VARSITY GAME IS BACK! 🏒 \nGet ready for 2024’s most electrifying uni sports event! On April 10th\, your St Andrews Typhoons take on rivals\, the Edinburgh Eagles\, in an epic varsity ice hockey showdown at Fife Ice Arena. \nWe invite you to get loose and drive on your Saints in their title defense!  \nWhether you’re a hockey fan or just looking for a night filled with unparalleled fun and atmosphere\, Wookey is the place to be. \nTickets on sale now!
URL:https://sport.wp.st-andrews.ac.uk/event/jonny-wookey-memorial-varisty-game/
LOCATION:Fife Ice Arena\, Kirkcaldy\, Kirkcaldy
CATEGORIES:Student Sport
ATTACH;FMTTYPE=image/png:https://sport.wp.st-andrews.ac.uk/files/2024/03/Screenshot-2024-03-25-142817.png
END:VEVENT
BEGIN:VEVENT
DTSTART;VALUE=DATE:20240413
DTEND;VALUE=DATE:20240414
DTSTAMP:20260421T023513
CREATED:20240325T142531Z
LAST-MODIFIED:20240328T162849Z
UID:10000055-1712966400-1713052799@sport.wp.st-andrews.ac.uk
SUMMARY:Colour Run
DESCRIPTION:The Colour Run is back for 2024 on the 13th April! Bring your friends\, family and club members! \nEvent registration opens at 10:30am – all participants need to sign in at the desk on the day\nThe fun group warm up starts at 11am and will be led by our wonderful Dance club\nThe Colour Run itself will begin after the warm up finishes\, around 11:15am \nEntry fees are £5 per person\, payment is on the day in cash or via the QR code link. Any extra donations are welcomed! \nEntry fees and donations will contribute towards our continued support to NGO Sport in Action Zambia. Sport in Action are a non-governmental organisation whose purpose is to improve people’s quality of life through sport and recreational activities. Every summer Saints Sport student volunteers join the NGO to work collaboratively to upskill and develop young coaches\, through delivering accredited coaching workshops. This supports the NGO to create leadership opportunities within communities and this in turn allows more children to take part in organised sports sessions.  \nThe fun run route will be around the Saints Sport grounds with various activities along the way such as the colour powder stations\, and an obstacle course. There will be the option to run one or two laps of the ~2.5km course.  \nPlease email sportsparticipation@st-andrews.ac.uk with any questions.
URL:https://sport.wp.st-andrews.ac.uk/event/colour-run-2/
LOCATION:University Park\, Saints Sport\, St Leonard's Road\, St Andrews\, Fife\, KY16 9DY\, United Kingdom
ATTACH;FMTTYPE=image/jpeg:https://sport.wp.st-andrews.ac.uk/files/2024/03/Colour-Run-2023-113-scaled.jpg
END:VEVENT
END:VCALENDAR